BEGIN:VCALENDAR
VERSION:2.0
PRODID:-//202.146.211.8//NONSGML kigkonsult.se iCalcreator 2.26.9//
CALSCALE:GREGORIAN
METHOD:PUBLISH
X-FROM-URL:http://scuderiaitaliancarclub.asn.au
X-WR-TIMEZONE:Australia/Adelaide
BEGIN:VTIMEZONE
TZID:Australia/Adelaide
X-LIC-LOCATION:Australia/Adelaide
BEGIN:STANDARD
DTSTART:20200405T030000
TZOFFSETFROM:+1030
TZOFFSETTO:+0930
RDATE:20210404T030000
TZNAME:ACST
END:STANDARD
BEGIN:DAYLIGHT
DTSTART:20191006T020000
TZOFFSETFROM:+0930
TZOFFSETTO:+1030
RDATE:20201004T020000
TZNAME:ACDT
END:DAYLIGHT
END:VTIMEZONE
BEGIN:VEVENT
UID:ai1ec-138@scuderiaitaliancarclub.asn.au
DTSTAMP:20200224T185639Z
CATEGORIES;LANGUAGE=en-AU:Event
CONTACT:
DESCRIPTION:
DTSTART;VALUE=DATE:20190407
DTEND;VALUE=DATE:20190408
SEQUENCE:0
SUMMARY:McLaren Vale Vintage & Classic Day
URL:http://scuderiaitaliancarclub.asn.au/event/mclaren-vale-vintage-classic
 -day/
X-COST-TYPE:free
END:VEVENT
BEGIN:VEVENT
UID:ai1ec-139@scuderiaitaliancarclub.asn.au
DTSTAMP:20200224T185639Z
CATEGORIES;LANGUAGE=en-AU:Event
CONTACT:
DESCRIPTION:
DTSTART;VALUE=DATE:20190630
DTEND;VALUE=DATE:20190701
SEQUENCE:0
SUMMARY:Club Registration Day
URL:http://scuderiaitaliancarclub.asn.au/event/club-registration-day/
X-COST-TYPE:free
END:VEVENT
BEGIN:VEVENT
UID:ai1ec-156@scuderiaitaliancarclub.asn.au
DTSTAMP:20200224T185639Z
CATEGORIES;LANGUAGE=en-AU:Event
CONTACT:
DESCRIPTION:
DTSTART;VALUE=DATE:20190908
DTEND;VALUE=DATE:20190909
LOCATION:Tenafeate Winery\, Yattalunga @ 1071 Gawler One Tree Hil Road\, On
 e Tree Hill South Australia 5114
SEQUENCE:0
SUMMARY:Show ‘n’ Shine at Tenafeate Winery\, Yattalunga
URL:http://scuderiaitaliancarclub.asn.au/event/show-n-shine-at-tenafeate-wi
 nery-yattalunga/
X-COST-TYPE:free
END:VEVENT
BEGIN:VEVENT
UID:ai1ec-157@scuderiaitaliancarclub.asn.au
DTSTAMP:20200224T185639Z
CATEGORIES;LANGUAGE=en-AU:Event
CONTACT:
DESCRIPTION:
DTSTART;VALUE=DATE:20190929
DTEND;VALUE=DATE:20190930
SEQUENCE:0
SUMMARY:Bay to Birdwood Classic
URL:http://scuderiaitaliancarclub.asn.au/event/bay-to-birdwood-classic/
X-COST-TYPE:free
END:VEVENT
BEGIN:VEVENT
UID:ai1ec-158@scuderiaitaliancarclub.asn.au
DTSTAMP:20200224T185639Z
CATEGORIES;LANGUAGE=en-AU:Event
CONTACT:
DESCRIPTION:
DTSTART;VALUE=DATE:20191027
DTEND;VALUE=DATE:20191028
LOCATION:St Francis of Assisi School\, Newton @ 57 Newton Road\, Newton Sou
 th Australia 5074
SEQUENCE:0
SUMMARY:Auto Italia\, St Francis of Assisi School\, Newton
URL:http://scuderiaitaliancarclub.asn.au/event/auto-italia-st-francis-of-as
 sisi-school-newton/
X-COST-TYPE:free
END:VEVENT
BEGIN:VEVENT
UID:ai1ec-159@scuderiaitaliancarclub.asn.au
DTSTAMP:20200224T185639Z
CATEGORIES;LANGUAGE=en-AU:Run
CONTACT:
DESCRIPTION:
DTSTART;VALUE=DATE:20191110
DTEND;VALUE=DATE:20191111
LOCATION:Osteria Sanso @ 14 Princes Highway\, Kanmantoo South Australia 525
 2
SEQUENCE:0
SUMMARY:Drive and Lunch at Osteria Sanso\, Kanmantoo
URL:http://scuderiaitaliancarclub.asn.au/event/drive-and-lunch-at-osteria-s
 anso-kanmantoo/
X-COST-TYPE:free
END:VEVENT
BEGIN:VEVENT
UID:ai1ec-160@scuderiaitaliancarclub.asn.au
DTSTAMP:20200224T185639Z
CATEGORIES;LANGUAGE=en-AU:Event
CONTACT:
DESCRIPTION:
DTSTART;VALUE=DATE:20191201
DTEND;VALUE=DATE:20191202
LOCATION:Thorndon Park Reservoir @ Hamilton Terrace\, Paradise South Austra
 lia 5075
SEQUENCE:0
SUMMARY:Christmas Picnic Lunch\, Thorndon Park Reservoir
URL:http://scuderiaitaliancarclub.asn.au/event/christmas-picnic-lunch-thorn
 don-park-reservoir/
X-COST-TYPE:free
END:VEVENT
BEGIN:VEVENT
UID:ai1ec-136@scuderiaitaliancarclub.asn.au
DTSTAMP:20200224T185639Z
CATEGORIES;LANGUAGE=en-AU:Run
CONTACT:
DESCRIPTION:
DTSTART;TZID=Australia/Adelaide:20190303T083000
DTEND;TZID=Australia/Adelaide:20190303T123000
GEO:+138.676912;-34.912845
LOCATION:Tower Hotel car park @ Corner of Magill and St. Bernards Roads
RRULE:FREQ=MONTHLY;BYDAY=1SU
SEQUENCE:0
SUMMARY:Monthly Breakfast Run
URL:http://scuderiaitaliancarclub.asn.au/event/monthly-breakfast-run/
X-COST-TYPE:free
END:VEVENT
BEGIN:VEVENT
UID:ai1ec-137@scuderiaitaliancarclub.asn.au
DTSTAMP:20200224T185639Z
CATEGORIES;LANGUAGE=en-AU:Meeting
CONTACT:
DESCRIPTION:
DTSTART;TZID=Australia/Adelaide:20190402T193000
DTEND;TZID=Australia/Adelaide:20190402T213000
EXRULE:FREQ=YEARLY;BYDAY=1TU;BYMONTH=10
LOCATION:Venue to be advised prior to each meeting
RRULE:FREQ=MONTHLY;BYDAY=1TU
SEQUENCE:0
SUMMARY:Monthly Meeting
URL:http://scuderiaitaliancarclub.asn.au/event/monthly-meeting/
X-COST-TYPE:free
END:VEVENT
BEGIN:VEVENT
UID:ai1ec-153@scuderiaitaliancarclub.asn.au
DTSTAMP:20200224T185639Z
CATEGORIES;LANGUAGE=en-AU:Event
CONTACT:
DESCRIPTION:
DTSTART;TZID=Australia/Adelaide:20190726T190000
LOCATION:Campania Club - Modbury @ 5 Famechon Crescent\, Modbury North Nort
 h\, Modbury South Australia 5092
SEQUENCE:0
SUMMARY:Pasta & Pizza night – Campania Club – Modbury
URL:http://scuderiaitaliancarclub.asn.au/event/pastapizza-night-campania-cl
 ub-modbury/
X-COST-TYPE:free
X-INSTANT-EVENT:1
END:VEVENT
BEGIN:VEVENT
UID:ai1ec-155@scuderiaitaliancarclub.asn.au
DTSTAMP:20200224T185639Z
CATEGORIES;LANGUAGE=en-AU:Event
CONTACT:
DESCRIPTION:
DTSTART;TZID=Australia/Adelaide:20190825T120000
LOCATION:Mt Torrens Hotel @ 1 TOWNSEND Street\, MOUNT TORRENS South Austral
 ia 5244
SEQUENCE:0
SUMMARY:Lunch at Mt Torrens Hotel
URL:http://scuderiaitaliancarclub.asn.au/event/lunch-at-mt-torrens-hotel/
X-COST-TYPE:free
X-INSTANT-EVENT:1
END:VEVENT
BEGIN:VEVENT
UID:ai1ec-140@scuderiaitaliancarclub.asn.au
DTSTAMP:20200224T185639Z
CATEGORIES;LANGUAGE=en-AU:Meeting
CONTACT:
DESCRIPTION:
DTSTART;TZID=Australia/Adelaide:20191001T193000
DTEND;TZID=Australia/Adelaide:20191001T213000
LOCATION:San Marco Pizzeria @ 193 Payneham Rd\, St Peters SA 5069
RRULE:FREQ=YEARLY
SEQUENCE:0
SUMMARY:Annual General Meeting
URL:http://scuderiaitaliancarclub.asn.au/event/agm/
X-COST-TYPE:free
END:VEVENT
END:VCALENDAR
