BEGIN:VCALENDAR
VERSION:2.0
PRODID:-//202.146.211.8//NONSGML kigkonsult.se iCalcreator 2.26.9//
CALSCALE:GREGORIAN
METHOD:PUBLISH
X-WR-CALNAME:Scuderia Italian Car Club Inc.
X-WR-CALDESC:Sharing our passion for Italian motoring in South Australia
X-FROM-URL:http://scuderiaitaliancarclub.asn.au
X-WR-TIMEZONE:Australia/Adelaide
BEGIN:VTIMEZONE
TZID:Australia/Adelaide
X-LIC-LOCATION:Australia/Adelaide
BEGIN:STANDARD
DTSTART:20200405T030000
TZOFFSETFROM:+1030
TZOFFSETTO:+0930
RDATE:20210404T030000
TZNAME:ACST
END:STANDARD
BEGIN:DAYLIGHT
DTSTART:20191006T020000
TZOFFSETFROM:+0930
TZOFFSETTO:+1030
RDATE:20201004T020000
TZNAME:ACDT
END:DAYLIGHT
END:VTIMEZONE
BEGIN:VEVENT
UID:ai1ec-137@scuderiaitaliancarclub.asn.au
DTSTAMP:20200224T193016Z
CATEGORIES;LANGUAGE=en-AU:Meeting
CONTACT:
DESCRIPTION:
DTSTART;TZID=Australia/Adelaide:20190402T193000
DTEND;TZID=Australia/Adelaide:20190402T213000
EXRULE:FREQ=YEARLY;BYDAY=1TU;BYMONTH=10
LOCATION:Venue to be advised prior to each meeting
RRULE:FREQ=MONTHLY;BYDAY=1TU
SEQUENCE:0
SUMMARY:Monthly Meeting
URL:http://scuderiaitaliancarclub.asn.au/event/monthly-meeting/
X-COST-TYPE:free
END:VEVENT
END:VCALENDAR
