BEGIN:VCALENDAR
VERSION:2.0
PRODID:-//202.146.211.8//NONSGML kigkonsult.se iCalcreator 2.26.9//
CALSCALE:GREGORIAN
METHOD:PUBLISH
X-WR-CALNAME:Scuderia Italian Car Club Inc.
X-WR-CALDESC:Sharing our passion for Italian motoring in South Australia
X-FROM-URL:http://scuderiaitaliancarclub.asn.au
X-WR-TIMEZONE:Australia/Adelaide
BEGIN:VTIMEZONE
TZID:Australia/Adelaide
X-LIC-LOCATION:Australia/Adelaide
BEGIN:STANDARD
DTSTART:20200405T030000
TZOFFSETFROM:+1030
TZOFFSETTO:+0930
RDATE:20210404T030000
TZNAME:ACST
END:STANDARD
BEGIN:DAYLIGHT
DTSTART:20191006T020000
TZOFFSETFROM:+0930
TZOFFSETTO:+1030
RDATE:20201004T020000
TZNAME:ACDT
END:DAYLIGHT
END:VTIMEZONE
BEGIN:VEVENT
UID:ai1ec-158@scuderiaitaliancarclub.asn.au
DTSTAMP:20200224T193151Z
CATEGORIES;LANGUAGE=en-AU:Event
CONTACT:
DESCRIPTION:
DTSTART;VALUE=DATE:20191027
DTEND;VALUE=DATE:20191028
LOCATION:St Francis of Assisi School\, Newton @ 57 Newton Road\, Newton Sou
 th Australia 5074
SEQUENCE:0
SUMMARY:Auto Italia\, St Francis of Assisi School\, Newton
URL:http://scuderiaitaliancarclub.asn.au/event/auto-italia-st-francis-of-as
 sisi-school-newton/
X-COST-TYPE:free
END:VEVENT
END:VCALENDAR
